BEGIN:VCALENDAR
VERSION:2.0
PRODID:-//Windsor Baptist Church - ECPv6.2.4//NONSGML v1.0//EN
CALSCALE:GREGORIAN
METHOD:PUBLISH
X-ORIGINAL-URL:https://www.windsor-baptist.org
X-WR-CALDESC:Events for Windsor Baptist Church
REFRESH-INTERVAL;VALUE=DURATION:PT1H
X-Robots-Tag:noindex
X-PUBLISHED-TTL:PT1H
BEGIN:VTIMEZONE
TZID:America/New_York
BEGIN:DAYLIGHT
TZOFFSETFROM:-0500
TZOFFSETTO:-0400
TZNAME:EDT
DTSTART:20230312T070000
END:DAYLIGHT
BEGIN:STANDARD
TZOFFSETFROM:-0400
TZOFFSETTO:-0500
TZNAME:EST
DTSTART:20231105T060000
END:STANDARD
END:VTIMEZONE
BEGIN:VEVENT
DTSTART;TZID=America/New_York:20230402T180000
DTEND;TZID=America/New_York:20230402T190000
DTSTAMP:20260423T103350
CREATED:20220830T145144Z
LAST-MODIFIED:20230404T140510Z
UID:6075-1680458400-1680462000@www.windsor-baptist.org
SUMMARY:Women's Inductive Bible Study
DESCRIPTION:Women’s Inductive Bible Study meets each Wednesday (Sept. – May) from 10 AM to 12 PM in a member’s home. A second group meets Sunday evenings from 6-7 PM at Windsor. This is an in-depth study of God’s word. All women with a desire to dig deep into the treasures of the Bible are welcome to attend! We hope that you can join us!
URL:https://www.windsor-baptist.org/event/womens-inductive-bible-study-2-2023-04-02/
LOCATION:Windsor Baptist Church\, 213 Little Conestoga Rd\, Downingtown\, PA\, 19335\, United States
CATEGORIES:General Events,Weekly Events
ATTACH;FMTTYPE=image/jpeg:https://www.windsor-baptist.org/wp-content/uploads/2020/10/Mark.jpg
END:VEVENT
BEGIN:VEVENT
DTSTART;TZID=America/New_York:20230405T100000
DTEND;TZID=America/New_York:20230405T120000
DTSTAMP:20260423T103350
CREATED:20220830T145144Z
LAST-MODIFIED:20230404T140510Z
UID:6076-1680688800-1680696000@www.windsor-baptist.org
SUMMARY:Women's Inductive Bible Study
DESCRIPTION:Women’s Inductive Bible Study meets each Wednesday (Sept. – May) from 10 AM to 12 PM in a member’s home. A second group meets Sunday evenings from 6-7 PM at Windsor. This is an in-depth study of God’s word. All women with a desire to dig deep into the treasures of the Bible are welcome to attend! We hope that you can join us!
URL:https://www.windsor-baptist.org/event/womens-inductive-bible-study-2-2023-04-05/
LOCATION:Windsor Baptist Church\, 213 Little Conestoga Rd\, Downingtown\, PA\, 19335\, United States
CATEGORIES:General Events,Weekly Events
ATTACH;FMTTYPE=image/jpeg:https://www.windsor-baptist.org/wp-content/uploads/2020/10/Mark.jpg
END:VEVENT
BEGIN:VEVENT
DTSTART;TZID=America/New_York:20230409T180000
DTEND;TZID=America/New_York:20230409T190000
DTSTAMP:20260423T103350
CREATED:20220830T145144Z
LAST-MODIFIED:20230404T140511Z
UID:6077-1681063200-1681066800@www.windsor-baptist.org
SUMMARY:Women's Inductive Bible Study
DESCRIPTION:Women’s Inductive Bible Study meets each Wednesday (Sept. – May) from 10 AM to 12 PM in a member’s home. A second group meets Sunday evenings from 6-7 PM at Windsor. This is an in-depth study of God’s word. All women with a desire to dig deep into the treasures of the Bible are welcome to attend! We hope that you can join us!
URL:https://www.windsor-baptist.org/event/womens-inductive-bible-study-2-2023-04-09/
LOCATION:Windsor Baptist Church\, 213 Little Conestoga Rd\, Downingtown\, PA\, 19335\, United States
CATEGORIES:General Events,Weekly Events
ATTACH;FMTTYPE=image/jpeg:https://www.windsor-baptist.org/wp-content/uploads/2020/10/Mark.jpg
END:VEVENT
BEGIN:VEVENT
DTSTART;TZID=America/New_York:20230412T100000
DTEND;TZID=America/New_York:20230412T120000
DTSTAMP:20260423T103350
CREATED:20220830T145144Z
LAST-MODIFIED:20230404T140511Z
UID:6078-1681293600-1681300800@www.windsor-baptist.org
SUMMARY:Women's Inductive Bible Study
DESCRIPTION:Women’s Inductive Bible Study meets each Wednesday (Sept. – May) from 10 AM to 12 PM in a member’s home. A second group meets Sunday evenings from 6-7 PM at Windsor. This is an in-depth study of God’s word. All women with a desire to dig deep into the treasures of the Bible are welcome to attend! We hope that you can join us!
URL:https://www.windsor-baptist.org/event/womens-inductive-bible-study-2-2023-04-12/
LOCATION:Windsor Baptist Church\, 213 Little Conestoga Rd\, Downingtown\, PA\, 19335\, United States
CATEGORIES:General Events,Weekly Events
ATTACH;FMTTYPE=image/jpeg:https://www.windsor-baptist.org/wp-content/uploads/2020/10/Mark.jpg
END:VEVENT
BEGIN:VEVENT
DTSTART;TZID=America/New_York:20230416T180000
DTEND;TZID=America/New_York:20230416T190000
DTSTAMP:20260423T103350
CREATED:20220830T145144Z
LAST-MODIFIED:20230404T140511Z
UID:6079-1681668000-1681671600@www.windsor-baptist.org
SUMMARY:Women's Inductive Bible Study
DESCRIPTION:Women’s Inductive Bible Study meets each Wednesday (Sept. – May) from 10 AM to 12 PM in a member’s home. A second group meets Sunday evenings from 6-7 PM at Windsor. This is an in-depth study of God’s word. All women with a desire to dig deep into the treasures of the Bible are welcome to attend! We hope that you can join us!
URL:https://www.windsor-baptist.org/event/womens-inductive-bible-study-2-2023-04-16/
LOCATION:Windsor Baptist Church\, 213 Little Conestoga Rd\, Downingtown\, PA\, 19335\, United States
CATEGORIES:General Events,Weekly Events
ATTACH;FMTTYPE=image/jpeg:https://www.windsor-baptist.org/wp-content/uploads/2020/10/Mark.jpg
END:VEVENT
BEGIN:VEVENT
DTSTART;TZID=America/New_York:20230419T100000
DTEND;TZID=America/New_York:20230419T120000
DTSTAMP:20260423T103350
CREATED:20220830T145144Z
LAST-MODIFIED:20230404T140511Z
UID:6080-1681898400-1681905600@www.windsor-baptist.org
SUMMARY:Women's Inductive Bible Study
DESCRIPTION:Women’s Inductive Bible Study meets each Wednesday (Sept. – May) from 10 AM to 12 PM in a member’s home. A second group meets Sunday evenings from 6-7 PM at Windsor. This is an in-depth study of God’s word. All women with a desire to dig deep into the treasures of the Bible are welcome to attend! We hope that you can join us!
URL:https://www.windsor-baptist.org/event/womens-inductive-bible-study-2-2023-04-19/
LOCATION:Windsor Baptist Church\, 213 Little Conestoga Rd\, Downingtown\, PA\, 19335\, United States
CATEGORIES:General Events,Weekly Events
ATTACH;FMTTYPE=image/jpeg:https://www.windsor-baptist.org/wp-content/uploads/2020/10/Mark.jpg
END:VEVENT
BEGIN:VEVENT
DTSTART;TZID=America/New_York:20230423T180000
DTEND;TZID=America/New_York:20230423T190000
DTSTAMP:20260423T103350
CREATED:20220830T145144Z
LAST-MODIFIED:20230404T140511Z
UID:6081-1682272800-1682276400@www.windsor-baptist.org
SUMMARY:Women's Inductive Bible Study
DESCRIPTION:Women’s Inductive Bible Study meets each Wednesday (Sept. – May) from 10 AM to 12 PM in a member’s home. A second group meets Sunday evenings from 6-7 PM at Windsor. This is an in-depth study of God’s word. All women with a desire to dig deep into the treasures of the Bible are welcome to attend! We hope that you can join us!
URL:https://www.windsor-baptist.org/event/womens-inductive-bible-study-2-2023-04-23/
LOCATION:Windsor Baptist Church\, 213 Little Conestoga Rd\, Downingtown\, PA\, 19335\, United States
CATEGORIES:General Events,Weekly Events
ATTACH;FMTTYPE=image/jpeg:https://www.windsor-baptist.org/wp-content/uploads/2020/10/Mark.jpg
END:VEVENT
BEGIN:VEVENT
DTSTART;TZID=America/New_York:20230426T100000
DTEND;TZID=America/New_York:20230426T120000
DTSTAMP:20260423T103350
CREATED:20220830T145144Z
LAST-MODIFIED:20230404T140512Z
UID:6082-1682503200-1682510400@www.windsor-baptist.org
SUMMARY:Women's Inductive Bible Study
DESCRIPTION:Women’s Inductive Bible Study meets each Wednesday (Sept. – May) from 10 AM to 12 PM in a member’s home. A second group meets Sunday evenings from 6-7 PM at Windsor. This is an in-depth study of God’s word. All women with a desire to dig deep into the treasures of the Bible are welcome to attend! We hope that you can join us!
URL:https://www.windsor-baptist.org/event/womens-inductive-bible-study-2-2023-04-26/
LOCATION:Windsor Baptist Church\, 213 Little Conestoga Rd\, Downingtown\, PA\, 19335\, United States
CATEGORIES:General Events,Weekly Events
ATTACH;FMTTYPE=image/jpeg:https://www.windsor-baptist.org/wp-content/uploads/2020/10/Mark.jpg
END:VEVENT
BEGIN:VEVENT
DTSTART;TZID=America/New_York:20230430T180000
DTEND;TZID=America/New_York:20230430T190000
DTSTAMP:20260423T103350
CREATED:20220830T145144Z
LAST-MODIFIED:20230404T140512Z
UID:6083-1682877600-1682881200@www.windsor-baptist.org
SUMMARY:Women's Inductive Bible Study
DESCRIPTION:Women’s Inductive Bible Study meets each Wednesday (Sept. – May) from 10 AM to 12 PM in a member’s home. A second group meets Sunday evenings from 6-7 PM at Windsor. This is an in-depth study of God’s word. All women with a desire to dig deep into the treasures of the Bible are welcome to attend! We hope that you can join us!
URL:https://www.windsor-baptist.org/event/womens-inductive-bible-study-2-2023-04-30/
LOCATION:Windsor Baptist Church\, 213 Little Conestoga Rd\, Downingtown\, PA\, 19335\, United States
CATEGORIES:General Events,Weekly Events
ATTACH;FMTTYPE=image/jpeg:https://www.windsor-baptist.org/wp-content/uploads/2020/10/Mark.jpg
END:VEVENT
END:VCALENDAR